BEGIN:VCALENDAR
METHOD:PUBLISH
CALSCALE:GREGORIAN
PRODID:Elbphilharmonie
VERSION:2.0
BEGIN:VTIMEZONE
TZID:Europe/Berlin
BEGIN:DAYLIGHT
TZOFFSETFROM:+0100
TZOFFSETTO:+0200
TZNAME:CEST
DTSTART:20200329T010000
RRULE:FREQ=YEARLY;INTERVAL=1;BYDAY=-1SU;BYMONTH=3
END:DAYLIGHT
BEGIN:STANDARD
TZOFFSETFROM:+0200
TZOFFSETTO:+0100
TZNAME:CET
DTSTART:20201025T010000
RRULE:FREQ=YEARLY;INTERVAL=1;BYDAY=-1SU;BYMONTH=10
END:STANDARD
END:VTIMEZONE
BEGIN:VEVENT
DTSTAMP:20260423T115500Z
DTSTART:20261129T170000Z
DTEND:20261129T181500Z
LOCATION:Elbphilharmonie Kleiner Saal
SUMMARY:Seckou Keita\, kora
DESCRIPTION:Performers\nSeckou Keita: kora\n\nProgramme\n»Celebrating 30 
 Years of Music«
UID:event27959@Elbphilharmonie.de
URL:https://www.elbphilharmonie.de/en/whats-on/seckou-keita-kora/27959
END:VEVENT
END:VCALENDAR
