BEGIN:VCALENDAR
METHOD:PUBLISH
CALSCALE:GREGORIAN
PRODID:Elbphilharmonie
VERSION:2.0
BEGIN:VTIMEZONE
TZID:Europe/Berlin
BEGIN:DAYLIGHT
TZOFFSETFROM:+0100
TZOFFSETTO:+0200
TZNAME:CEST
DTSTART:20200329T010000
RRULE:FREQ=YEARLY;INTERVAL=1;BYDAY=-1SU;BYMONTH=3
END:DAYLIGHT
BEGIN:STANDARD
TZOFFSETFROM:+0200
TZOFFSETTO:+0100
TZNAME:CET
DTSTART:20201025T010000
RRULE:FREQ=YEARLY;INTERVAL=1;BYDAY=-1SU;BYMONTH=10
END:STANDARD
END:VTIMEZONE
BEGIN:VEVENT
DTSTAMP:20260423T170000Z
DTSTART:20270409T180000Z
DTEND:20270409T195000Z
LOCATION:Laeiszhalle Kleiner Saal
SUMMARY:Schumann Quartett / Simply Quartet
DESCRIPTION:Performers\nSchumann Quartett\nErik Schumann: violin\nKen Schu
 mann: violin\nMatthew McDowell: viola\nMark Schumann: violoncello\nSimply 
 Quartet\nSueye Park: violin\nAntonia Rankersberger: violin\nXiang Lyu: vio
 la\nIvan Valentin Hollup Roald: violoncello\n\nProgramme\nFelix Mendelssoh
 n Bartholdy\nStreichoktett Es-Dur op. 20\n– Interval – \nGeorge Enesc
 u\nOktett für Streicher C-Dur op. 7
UID:event28140@Elbphilharmonie.de
URL:https://www.elbphilharmonie.de/en/whats-on/schumann-quartett-simply-qu
 artet/28140
END:VEVENT
END:VCALENDAR
