BEGIN:VCALENDAR
METHOD:PUBLISH
CALSCALE:GREGORIAN
PRODID:Elbphilharmonie
VERSION:2.0
BEGIN:VTIMEZONE
TZID:Europe/Berlin
BEGIN:DAYLIGHT
TZOFFSETFROM:+0100
TZOFFSETTO:+0200
TZNAME:CEST
DTSTART:20200329T010000
RRULE:FREQ=YEARLY;INTERVAL=1;BYDAY=-1SU;BYMONTH=3
END:DAYLIGHT
BEGIN:STANDARD
TZOFFSETFROM:+0200
TZOFFSETTO:+0100
TZNAME:CET
DTSTART:20201025T010000
RRULE:FREQ=YEARLY;INTERVAL=1;BYDAY=-1SU;BYMONTH=10
END:STANDARD
END:VTIMEZONE
BEGIN:VEVENT
DTSTAMP:20260423T200900Z
DTSTART:20261004T123000Z
DTEND:20261004T133000Z
LOCATION:Laeiszhalle Kleiner Saal
SUMMARY:»Schrubbi Schrubber«
DESCRIPTION:Performers\nKammerorchester der Symphoniker Hamburg\nMelanie W
 eirather: concept and acting\n\nProgramme\n»Schrubbi Schrubber«\nComposi
 tions by Harald Schmidt and Melanie Weirather
UID:event28250@Elbphilharmonie.de
URL:https://www.elbphilharmonie.de/en/whats-on/schrubbi-schrubber/28250
END:VEVENT
END:VCALENDAR
