BEGIN:VCALENDAR
METHOD:PUBLISH
CALSCALE:GREGORIAN
PRODID:Elbphilharmonie
VERSION:2.0
BEGIN:VTIMEZONE
TZID:Europe/Berlin
BEGIN:DAYLIGHT
TZOFFSETFROM:+0100
TZOFFSETTO:+0200
TZNAME:CEST
DTSTART:20200329T010000
RRULE:FREQ=YEARLY;INTERVAL=1;BYDAY=-1SU;BYMONTH=3
END:DAYLIGHT
BEGIN:STANDARD
TZOFFSETFROM:+0200
TZOFFSETTO:+0100
TZNAME:CET
DTSTART:20201025T010000
RRULE:FREQ=YEARLY;INTERVAL=1;BYDAY=-1SU;BYMONTH=10
END:STANDARD
END:VTIMEZONE
BEGIN:VEVENT
DTSTAMP:20260423T144200Z
DTSTART:20270220T193000Z
DTEND:20270220T210000Z
LOCATION:Elbphilharmonie Kleiner Saal
SUMMARY:Schrottgrenze
DESCRIPTION:Performers\nSchrottgrenze\nSaskia Lavaux: vocals\, guitar\nTim
 o Sauer: guitar\nHauke Röh: bass guitar\nLars Watermann: drums\n\nProgram
 me\n20 Jahre »Château Schrottgrenze«
UID:event28794@Elbphilharmonie.de
URL:https://www.elbphilharmonie.de/en/whats-on/schrottgrenze/28794
END:VEVENT
END:VCALENDAR
