BEGIN:VCALENDAR
METHOD:PUBLISH
CALSCALE:GREGORIAN
PRODID:Elbphilharmonie
VERSION:2.0
BEGIN:VTIMEZONE
TZID:Europe/Berlin
BEGIN:DAYLIGHT
TZOFFSETFROM:+0100
TZOFFSETTO:+0200
TZNAME:CEST
DTSTART:20200329T010000
RRULE:FREQ=YEARLY;INTERVAL=1;BYDAY=-1SU;BYMONTH=3
END:DAYLIGHT
BEGIN:STANDARD
TZOFFSETFROM:+0200
TZOFFSETTO:+0100
TZNAME:CET
DTSTART:20201025T010000
RRULE:FREQ=YEARLY;INTERVAL=1;BYDAY=-1SU;BYMONTH=10
END:STANDARD
END:VTIMEZONE
BEGIN:VEVENT
DTSTAMP:20260423T155700Z
DTSTART:20270412T093000Z
DTEND:20270412T103000Z
LOCATION:Elbphilharmonie Kleiner Saal
SUMMARY:School Concert »What on Earth!«
DESCRIPTION:Performers\ninn.wien ensemble\nstage direction\, choreography:
  Cornelia Voglmayr\nFlora Besenbäck: stage\, costume\n\nProgramme\nThe st
 ring orchestra inn.wien plays music by Antonio Vivaldi\, Ethel Smyth\, Edv
 ard Grieg\, Erwin Schulhoff\, Victoria \nYagling and others\nIn »What On 
 Earth!«\, we dare to dream. We laugh\, play and fail – but we never giv
 e up! We believe in ourselves and in a better future!
UID:event28515@Elbphilharmonie.de
URL:https://www.elbphilharmonie.de/en/whats-on/school-concert-what-on-eart
 h/28515
END:VEVENT
END:VCALENDAR
