BEGIN:VCALENDAR
METHOD:PUBLISH
CALSCALE:GREGORIAN
PRODID:Elbphilharmonie
VERSION:2.0
BEGIN:VTIMEZONE
TZID:Europe/Berlin
BEGIN:DAYLIGHT
TZOFFSETFROM:+0100
TZOFFSETTO:+0200
TZNAME:CEST
DTSTART:20200329T010000
RRULE:FREQ=YEARLY;INTERVAL=1;BYDAY=-1SU;BYMONTH=3
END:DAYLIGHT
BEGIN:STANDARD
TZOFFSETFROM:+0200
TZOFFSETTO:+0100
TZNAME:CET
DTSTART:20201025T010000
RRULE:FREQ=YEARLY;INTERVAL=1;BYDAY=-1SU;BYMONTH=10
END:STANDARD
END:VTIMEZONE
BEGIN:VEVENT
DTSTAMP:20260423T192100Z
DTSTART:20261110T103000Z
DTEND:20261110T113000Z
LOCATION:Elbphilharmonie Kleiner Saal
SUMMARY:School Concert: »Sonne\, Mond und Streicher«
DESCRIPTION:Performers\nEnsemble Resonanz\nCarola Bauckholt: composition\n
 Anselm Dalferth: stage direction\n
UID:event28380@Elbphilharmonie.de
URL:https://www.elbphilharmonie.de/en/whats-on/school-concert-sonne-mond-u
 nd-streicher/28380
END:VEVENT
END:VCALENDAR
