BEGIN:VCALENDAR
METHOD:PUBLISH
CALSCALE:GREGORIAN
PRODID:Elbphilharmonie
VERSION:2.0
BEGIN:VTIMEZONE
TZID:Europe/Berlin
BEGIN:DAYLIGHT
TZOFFSETFROM:+0100
TZOFFSETTO:+0200
TZNAME:CEST
DTSTART:20200329T010000
RRULE:FREQ=YEARLY;INTERVAL=1;BYDAY=-1SU;BYMONTH=3
END:DAYLIGHT
BEGIN:STANDARD
TZOFFSETFROM:+0200
TZOFFSETTO:+0100
TZNAME:CET
DTSTART:20201025T010000
RRULE:FREQ=YEARLY;INTERVAL=1;BYDAY=-1SU;BYMONTH=10
END:STANDARD
END:VTIMEZONE
BEGIN:VEVENT
DTSTAMP:20260423T213900Z
DTSTART:20270402T090000Z
DTEND:20270402T103000Z
LOCATION:Elbphilharmonie Großer Saal
SUMMARY:School Concert »Let’s Play Vol. 2«
DESCRIPTION:Performers\nMahler Chamber Orchestra\nconductor: Jochen Neuffe
 r\nSimone Nowicki: foley artist\nStefan Behrisch: arrangement\n
UID:event28675@Elbphilharmonie.de
URL:https://www.elbphilharmonie.de/en/whats-on/school-concert-lets-play-vo
 l-2/28675
END:VEVENT
END:VCALENDAR
