BEGIN:VCALENDAR
METHOD:PUBLISH
CALSCALE:GREGORIAN
PRODID:Elbphilharmonie
VERSION:2.0
BEGIN:VTIMEZONE
TZID:Europe/Berlin
BEGIN:DAYLIGHT
TZOFFSETFROM:+0100
TZOFFSETTO:+0200
TZNAME:CEST
DTSTART:20200329T010000
RRULE:FREQ=YEARLY;INTERVAL=1;BYDAY=-1SU;BYMONTH=3
END:DAYLIGHT
BEGIN:STANDARD
TZOFFSETFROM:+0200
TZOFFSETTO:+0100
TZNAME:CET
DTSTART:20201025T010000
RRULE:FREQ=YEARLY;INTERVAL=1;BYDAY=-1SU;BYMONTH=10
END:STANDARD
END:VTIMEZONE
BEGIN:VEVENT
DTSTAMP:20260423T122800Z
DTSTART:20270319T103000Z
DTEND:20270319T113000Z
LOCATION:Elbphilharmonie Kleiner Saal
SUMMARY:School Concert »Journey into a New World«
DESCRIPTION:Performers\nEnsemble Resonanz\nDan Tanson: stage direction\nKa
 trin Bethge: visuals\nMaj-Lene Tylkowski: assistant director\n
UID:event28338@Elbphilharmonie.de
URL:https://www.elbphilharmonie.de/en/whats-on/school-concert-journey-into
 -a-new-world/28338
END:VEVENT
END:VCALENDAR
