BEGIN:VCALENDAR
METHOD:PUBLISH
CALSCALE:GREGORIAN
PRODID:Elbphilharmonie
VERSION:2.0
BEGIN:VTIMEZONE
TZID:Europe/Berlin
BEGIN:DAYLIGHT
TZOFFSETFROM:+0100
TZOFFSETTO:+0200
TZNAME:CEST
DTSTART:20200329T010000
RRULE:FREQ=YEARLY;INTERVAL=1;BYDAY=-1SU;BYMONTH=3
END:DAYLIGHT
BEGIN:STANDARD
TZOFFSETFROM:+0200
TZOFFSETTO:+0100
TZNAME:CET
DTSTART:20201025T010000
RRULE:FREQ=YEARLY;INTERVAL=1;BYDAY=-1SU;BYMONTH=10
END:STANDARD
END:VTIMEZONE
BEGIN:VEVENT
DTSTAMP:20260423T155700Z
DTSTART:20260925T093000Z
DTEND:20260925T102000Z
LOCATION:Elbphilharmonie Kleiner Saal
SUMMARY:School Concert »Field Trip to the Moon«
DESCRIPTION:Performers\nPiano & Sand\nAnna Vidyaykina: sand painting\nSabi
 na Hasanova: piano\nElisabeth Pöcksteiner: script\n\nProgramme\nWith work
 s by Claude Debussy\, Pyotr I. Tchaikovsky\, Sergey Prokofiev\, Joe Hisais
 hi and other moon-loving composers
UID:event28437@Elbphilharmonie.de
URL:https://www.elbphilharmonie.de/en/whats-on/school-concert-field-trip-t
 o-the-moon/28437
END:VEVENT
END:VCALENDAR
