BEGIN:VCALENDAR
METHOD:PUBLISH
CALSCALE:GREGORIAN
PRODID:Elbphilharmonie
VERSION:2.0
BEGIN:VTIMEZONE
TZID:Europe/Berlin
BEGIN:DAYLIGHT
TZOFFSETFROM:+0100
TZOFFSETTO:+0200
TZNAME:CEST
DTSTART:20200329T010000
RRULE:FREQ=YEARLY;INTERVAL=1;BYDAY=-1SU;BYMONTH=3
END:DAYLIGHT
BEGIN:STANDARD
TZOFFSETFROM:+0200
TZOFFSETTO:+0100
TZNAME:CET
DTSTART:20201025T010000
RRULE:FREQ=YEARLY;INTERVAL=1;BYDAY=-1SU;BYMONTH=10
END:STANDARD
END:VTIMEZONE
BEGIN:VEVENT
DTSTAMP:20260423T213900Z
DTSTART:20270615T093000Z
DTEND:20270615T103000Z
LOCATION:Elbphilharmonie Kleiner Saal
SUMMARY:School Concert »FEST«
DESCRIPTION:Performers\nJunior Akwety: vocals\, performance\nJochem Baelus
 : percussion\, performance\nLotte Vanhamel: flute\, clarinet\, performance
 \nCharlotte Goesaert: stage direction\, choreography\nGeert Custers: light
 ing design\nWim Muyllaert: costume design\n\nProgramme\nGet ready\, lift y
 our heads\, clear your throats. Because it’s time for a festive revoluti
 on\, time for FEST!\nfeaturing songs from the Congo\, elements of rumba\, 
 Banto-electronic\, deep house\, hip-hop and rap
UID:event28507@Elbphilharmonie.de
URL:https://www.elbphilharmonie.de/en/whats-on/school-concert-fest/28507
END:VEVENT
END:VCALENDAR
