BEGIN:VCALENDAR
METHOD:PUBLISH
CALSCALE:GREGORIAN
PRODID:Elbphilharmonie
VERSION:2.0
BEGIN:VTIMEZONE
TZID:Europe/Berlin
BEGIN:DAYLIGHT
TZOFFSETFROM:+0100
TZOFFSETTO:+0200
TZNAME:CEST
DTSTART:20200329T010000
RRULE:FREQ=YEARLY;INTERVAL=1;BYDAY=-1SU;BYMONTH=3
END:DAYLIGHT
BEGIN:STANDARD
TZOFFSETFROM:+0200
TZOFFSETTO:+0100
TZNAME:CET
DTSTART:20201025T010000
RRULE:FREQ=YEARLY;INTERVAL=1;BYDAY=-1SU;BYMONTH=10
END:STANDARD
END:VTIMEZONE
BEGIN:VEVENT
DTSTAMP:20260423T214000Z
DTSTART:20270312T163000Z
DTEND:20270312T180000Z
LOCATION:Elbphilharmonie Kleiner Saal
SUMMARY:Sasha Waltz & Guests
DESCRIPTION:Performers\nSasha Waltz & Guests: Kompanie\nBurak Özdemir: ba
 ssoon\nYves Ytier: violin\nAnastasia Kobekina: violoncello\nAlexej Gerassi
 mez: percussion\nu.a.:\n\nProgramme\nMusik vom Barock bis in die Gegenwart
  - \nMusik und Tanz im Dialog mit Musik vom Barock bis in die Gegenwart
UID:event28662@Elbphilharmonie.de
URL:https://www.elbphilharmonie.de/en/whats-on/sasha-waltz-guests/28662
END:VEVENT
END:VCALENDAR
