BEGIN:VCALENDAR
METHOD:PUBLISH
CALSCALE:GREGORIAN
PRODID:Elbphilharmonie
VERSION:2.0
BEGIN:VTIMEZONE
TZID:Europe/Berlin
BEGIN:DAYLIGHT
TZOFFSETFROM:+0100
TZOFFSETTO:+0200
TZNAME:CEST
DTSTART:20200329T010000
RRULE:FREQ=YEARLY;INTERVAL=1;BYDAY=-1SU;BYMONTH=3
END:DAYLIGHT
BEGIN:STANDARD
TZOFFSETFROM:+0200
TZOFFSETTO:+0100
TZNAME:CET
DTSTART:20201025T010000
RRULE:FREQ=YEARLY;INTERVAL=1;BYDAY=-1SU;BYMONTH=10
END:STANDARD
END:VTIMEZONE
BEGIN:VEVENT
DTSTAMP:20260423T233300Z
DTSTART:20270313T183000Z
DTEND:20270313T203000Z
LOCATION:Elbphilharmonie Großer Saal
SUMMARY:Sasha Waltz & Guests: »Beethoven 7«
DESCRIPTION:Performers\nSasha Waltz & Guests: Kompanie\nIl Pomo d’Oro\nc
 onductor: Titus Engel\n\nProgramme\nLudwig van Beethoven\nSymphony No. 7 i
 n A major\, Op. 92
UID:event28412@Elbphilharmonie.de
URL:https://www.elbphilharmonie.de/en/whats-on/sasha-waltz-guests-beethove
 n-7/28412
END:VEVENT
END:VCALENDAR
