BEGIN:VCALENDAR
METHOD:PUBLISH
CALSCALE:GREGORIAN
PRODID:Elbphilharmonie
VERSION:2.0
BEGIN:VTIMEZONE
TZID:Europe/Berlin
BEGIN:DAYLIGHT
TZOFFSETFROM:+0100
TZOFFSETTO:+0200
TZNAME:CEST
DTSTART:20200329T010000
RRULE:FREQ=YEARLY;INTERVAL=1;BYDAY=-1SU;BYMONTH=3
END:DAYLIGHT
BEGIN:STANDARD
TZOFFSETFROM:+0200
TZOFFSETTO:+0100
TZNAME:CET
DTSTART:20201025T010000
RRULE:FREQ=YEARLY;INTERVAL=1;BYDAY=-1SU;BYMONTH=10
END:STANDARD
END:VTIMEZONE
BEGIN:VEVENT
DTSTAMP:20260423T213900Z
DTSTART:20261219T150000Z
DTEND:20261219T161000Z
LOCATION:Laeiszhalle Kleiner Saal
SUMMARY:Sarah Strohm / Angus Webster
DESCRIPTION:Performers\nSarah Strohm: viola\nAngus Webster: piano\n\nProgr
 amme\nFranz Schubert\nSonata for Arpeggione or Violoncello and Paino in A 
 minor\, D 821 »Arpeggione«\nJohann Sebastian Bach\nSuite No. 1 in G majo
 r\, BWV 1007 for Solo Violoncello\nPaul Hindemith\nSonate für Viola und K
 lavier F-Dur op. 11/4
UID:event28022@Elbphilharmonie.de
URL:https://www.elbphilharmonie.de/en/whats-on/sarah-strohm-angus-webster/
 28022
END:VEVENT
END:VCALENDAR
