BEGIN:VCALENDAR
METHOD:PUBLISH
CALSCALE:GREGORIAN
PRODID:Elbphilharmonie
VERSION:2.0
BEGIN:VTIMEZONE
TZID:Europe/Berlin
BEGIN:DAYLIGHT
TZOFFSETFROM:+0100
TZOFFSETTO:+0200
TZNAME:CEST
DTSTART:20200329T010000
RRULE:FREQ=YEARLY;INTERVAL=1;BYDAY=-1SU;BYMONTH=3
END:DAYLIGHT
BEGIN:STANDARD
TZOFFSETFROM:+0200
TZOFFSETTO:+0100
TZNAME:CET
DTSTART:20201025T010000
RRULE:FREQ=YEARLY;INTERVAL=1;BYDAY=-1SU;BYMONTH=10
END:STANDARD
END:VTIMEZONE
BEGIN:VEVENT
DTSTAMP:20260423T115400Z
DTSTART:20261029T183000Z
DTEND:20261029T200000Z
LOCATION:Elbphilharmonie Kleiner Saal
SUMMARY:Sanam
DESCRIPTION:Performers\nSanam: band\nSandy Chamoun: vocals\nFarah Kaddour:
  buzuq\nAnthony Sahyoun: guitar\, synthesizer\, live electronics\nMarwan T
 ohme: guitar\, live electronics\nAntonio El Hajj Moussa: bass\, live elect
 ronics\nPascal Semerdijan: drums\n\nProgramme\n»Sametou Sawtan«\nExperim
 entelle Sounds zwischen Rock\, Elektronik\, ägyptischen Klassikern und mo
 derner arabischer Poesie
UID:event28422@Elbphilharmonie.de
URL:https://www.elbphilharmonie.de/en/whats-on/sanam/28422
END:VEVENT
END:VCALENDAR
