BEGIN:VCALENDAR
METHOD:PUBLISH
CALSCALE:GREGORIAN
PRODID:Elbphilharmonie
VERSION:2.0
BEGIN:VTIMEZONE
TZID:Europe/Berlin
BEGIN:DAYLIGHT
TZOFFSETFROM:+0100
TZOFFSETTO:+0200
TZNAME:CEST
DTSTART:20200329T010000
RRULE:FREQ=YEARLY;INTERVAL=1;BYDAY=-1SU;BYMONTH=3
END:DAYLIGHT
BEGIN:STANDARD
TZOFFSETFROM:+0200
TZOFFSETTO:+0100
TZNAME:CET
DTSTART:20201025T010000
RRULE:FREQ=YEARLY;INTERVAL=1;BYDAY=-1SU;BYMONTH=10
END:STANDARD
END:VTIMEZONE
BEGIN:VEVENT
DTSTAMP:20260423T121100Z
DTSTART:20260901T180000Z
DTEND:20260901T200500Z
LOCATION:Elbphilharmonie Großer Saal
SUMMARY:Saisoneröffnung: Pittsburgh Symphony Orchestra / Alexandre Kantor
 ow / Manfred Honeck
DESCRIPTION:Performers\nPittsburgh Symphony Orchestra\nAlexandre Kantorow:
  piano\nconductor: Manfred Honeck\n\nProgramme\nJohannes Brahms\nConcerto 
 for Piano and Orchestra No. 1 in D minor\, Op. 15\n– Interval – \nDmit
 ri Schostakowitsch\nSymphony No. 5 in D minor\, Op. 47
UID:event27930@Elbphilharmonie.de
URL:https://www.elbphilharmonie.de/en/whats-on/saisoneroffnung-pittsburgh-
 symphony-orchestra-alexandre-kantorow-manfred-honeck/27930
END:VEVENT
END:VCALENDAR
