BEGIN:VCALENDAR
METHOD:PUBLISH
CALSCALE:GREGORIAN
PRODID:Elbphilharmonie
VERSION:2.0
BEGIN:VTIMEZONE
TZID:Europe/Berlin
BEGIN:DAYLIGHT
TZOFFSETFROM:+0100
TZOFFSETTO:+0200
TZNAME:CEST
DTSTART:20200329T010000
RRULE:FREQ=YEARLY;INTERVAL=1;BYDAY=-1SU;BYMONTH=3
END:DAYLIGHT
BEGIN:STANDARD
TZOFFSETFROM:+0200
TZOFFSETTO:+0100
TZNAME:CET
DTSTART:20201025T010000
RRULE:FREQ=YEARLY;INTERVAL=1;BYDAY=-1SU;BYMONTH=10
END:STANDARD
END:VTIMEZONE
BEGIN:VEVENT
DTSTAMP:20260423T195500Z
DTSTART:20270411T180000Z
DTEND:20270411T203000Z
LOCATION:Elbphilharmonie Großer Saal
SUMMARY:Royal Stockholm Philharmonic Orchestra / Kian Soltani / Ryan Bancr
 oft
DESCRIPTION:Performers\nRoyal Stockholm Philharmonic Orchestra\nKian Solta
 ni: violoncello\nconductor: Ryan Bancroft\n\nProgramme\nJean Sibelius\nTap
 iola / tone poem for large orchestra\, Op. 112\nRobert Schumann\nConcerto 
 für Violoncello and Orchestra in A minor\, Op. 129\n– Interval – \nCa
 rl Nielsen\nSinfonie Nr. 2 op. 16 »Die vier Temperamente«
UID:event28228@Elbphilharmonie.de
URL:https://www.elbphilharmonie.de/en/whats-on/royal-stockholm-philharmoni
 c-orchestra-kian-soltani-ryan-bancroft/28228
END:VEVENT
END:VCALENDAR
