BEGIN:VCALENDAR
METHOD:PUBLISH
CALSCALE:GREGORIAN
PRODID:Elbphilharmonie
VERSION:2.0
BEGIN:VTIMEZONE
TZID:Europe/Berlin
BEGIN:DAYLIGHT
TZOFFSETFROM:+0100
TZOFFSETTO:+0200
TZNAME:CEST
DTSTART:20200329T010000
RRULE:FREQ=YEARLY;INTERVAL=1;BYDAY=-1SU;BYMONTH=3
END:DAYLIGHT
BEGIN:STANDARD
TZOFFSETFROM:+0200
TZOFFSETTO:+0100
TZNAME:CET
DTSTART:20201025T010000
RRULE:FREQ=YEARLY;INTERVAL=1;BYDAY=-1SU;BYMONTH=10
END:STANDARD
END:VTIMEZONE
BEGIN:VEVENT
DTSTAMP:20260425T150000Z
DTSTART:20261110T190000Z
DTEND:20261110T211500Z
LOCATION:Elbphilharmonie Großer Saal
SUMMARY:Royal Concertgebouw Orchestra / Klaus Mäkelä
DESCRIPTION:Performers\nRoyal Concertgebouw Orchestra\nJennifer Johnston: 
 Judith\nGerald Finley: Bluebeard\nconductor: Klaus Mäkelä\n\nProgramme\n
 Antonín Dvořák\nSymphony No. 7 in D minor\, Op. 70\n– Interval – \n
 Béla Bartók\nDuke Bluebeard’s Castle / opera in one act\, Sz 48\nConce
 rt performance in Hungarian with German surtitles
UID:event27932@Elbphilharmonie.de
URL:https://www.elbphilharmonie.de/en/whats-on/royal-concertgebouw-orchest
 ra-klaus-makela/27932
END:VEVENT
END:VCALENDAR
