BEGIN:VCALENDAR
METHOD:PUBLISH
CALSCALE:GREGORIAN
PRODID:Elbphilharmonie
VERSION:2.0
BEGIN:VTIMEZONE
TZID:Europe/Berlin
BEGIN:DAYLIGHT
TZOFFSETFROM:+0100
TZOFFSETTO:+0200
TZNAME:CEST
DTSTART:20200329T010000
RRULE:FREQ=YEARLY;INTERVAL=1;BYDAY=-1SU;BYMONTH=3
END:DAYLIGHT
BEGIN:STANDARD
TZOFFSETFROM:+0200
TZOFFSETTO:+0100
TZNAME:CET
DTSTART:20201025T010000
RRULE:FREQ=YEARLY;INTERVAL=1;BYDAY=-1SU;BYMONTH=10
END:STANDARD
END:VTIMEZONE
BEGIN:VEVENT
DTSTAMP:20260424T011000Z
DTSTART:20270602T173000Z
DTEND:20270602T193000Z
LOCATION:Elbphilharmonie Kleiner Saal
SUMMARY:Rita Payés & Lucia Fumero
DESCRIPTION:Performers\nRita Payés: trombone\, vocals\, guitar\, synthesi
 zer\nLucía Fumero: piano\, vocals\, guitar\, synthesizer\nJuan R. Berbín
 : drums\, sampler\n\nProgramme\nEine Verschmelzung von Jazz\, lateinamerik
 anischen Rhythmen und Folk
UID:event28020@Elbphilharmonie.de
URL:https://www.elbphilharmonie.de/en/whats-on/rita-payes-lucia-fumero/280
 20
END:VEVENT
END:VCALENDAR
