BEGIN:VCALENDAR
METHOD:PUBLISH
CALSCALE:GREGORIAN
PRODID:Elbphilharmonie
VERSION:2.0
BEGIN:VTIMEZONE
TZID:Europe/Berlin
BEGIN:DAYLIGHT
TZOFFSETFROM:+0100
TZOFFSETTO:+0200
TZNAME:CEST
DTSTART:20200329T010000
RRULE:FREQ=YEARLY;INTERVAL=1;BYDAY=-1SU;BYMONTH=3
END:DAYLIGHT
BEGIN:STANDARD
TZOFFSETFROM:+0200
TZOFFSETTO:+0100
TZNAME:CET
DTSTART:20201025T010000
RRULE:FREQ=YEARLY;INTERVAL=1;BYDAY=-1SU;BYMONTH=10
END:STANDARD
END:VTIMEZONE
BEGIN:VEVENT
DTSTAMP:20260423T133900Z
DTSTART:20261126T183000Z
DTEND:20261126T200000Z
LOCATION:Elbphilharmonie Kleiner Saal
SUMMARY:Rhiannon Giddens
DESCRIPTION:Performers\nRhiannon Giddens: banjo\, vocals\nNiwel Tsumbu: gu
 itar\nÉamonn Cagney: percussion\nFrancesco Turrisi: percussion\, accordio
 n\n\nProgramme\n»Juba Zinga Jubilee – Bringing early banjo music back h
 ome«
UID:event27958@Elbphilharmonie.de
URL:https://www.elbphilharmonie.de/en/whats-on/rhiannon-giddens/27958
END:VEVENT
END:VCALENDAR
