BEGIN:VCALENDAR
METHOD:PUBLISH
CALSCALE:GREGORIAN
PRODID:Elbphilharmonie
VERSION:2.0
BEGIN:VTIMEZONE
TZID:Europe/Berlin
BEGIN:DAYLIGHT
TZOFFSETFROM:+0100
TZOFFSETTO:+0200
TZNAME:CEST
DTSTART:20200329T010000
RRULE:FREQ=YEARLY;INTERVAL=1;BYDAY=-1SU;BYMONTH=3
END:DAYLIGHT
BEGIN:STANDARD
TZOFFSETFROM:+0200
TZOFFSETTO:+0100
TZNAME:CET
DTSTART:20201025T010000
RRULE:FREQ=YEARLY;INTERVAL=1;BYDAY=-1SU;BYMONTH=10
END:STANDARD
END:VTIMEZONE
BEGIN:VEVENT
DTSTAMP:20260423T115500Z
DTSTART:20261125T183000Z
DTEND:20261125T203000Z
LOCATION:Elbphilharmonie Kleiner Saal
SUMMARY:Rhiannon Giddens & Francesco Turrisi
DESCRIPTION:Performers\nRhiannon Giddens: vocals\nFrancesco Turrisi: piano
 \n\nProgramme\n»When I Am Laid In Earth«\nAmerikanische und italienische
  Volksmusik\, Spirituals und Arien
UID:event27970@Elbphilharmonie.de
URL:https://www.elbphilharmonie.de/en/whats-on/rhiannon-giddens-francesco-
 turrisi/27970
END:VEVENT
END:VCALENDAR
