BEGIN:VCALENDAR
METHOD:PUBLISH
CALSCALE:GREGORIAN
PRODID:Elbphilharmonie
VERSION:2.0
BEGIN:VTIMEZONE
TZID:Europe/Berlin
BEGIN:DAYLIGHT
TZOFFSETFROM:+0100
TZOFFSETTO:+0200
TZNAME:CEST
DTSTART:20200329T010000
RRULE:FREQ=YEARLY;INTERVAL=1;BYDAY=-1SU;BYMONTH=3
END:DAYLIGHT
BEGIN:STANDARD
TZOFFSETFROM:+0200
TZOFFSETTO:+0100
TZNAME:CET
DTSTART:20201025T010000
RRULE:FREQ=YEARLY;INTERVAL=1;BYDAY=-1SU;BYMONTH=10
END:STANDARD
END:VTIMEZONE
BEGIN:VEVENT
DTSTAMP:20260423T195300Z
DTSTART:20261213T103000Z
DTEND:20261213T130000Z
LOCATION:Laeiszhalle Kleiner Saal
SUMMARY:Quatuor Ébène
DESCRIPTION:Performers\nQuatuor Ébène\nPierre Colombet: violin\nGabriel 
 Le Magadure: violin\nMarie Chilemme: viola\nYuya Okamoto: violoncello\n\nP
 rogramme\nLudwig van Beethoven\nStreichquartett D-Dur op. 18/3\nString Qu
 artet in F minor\, Op. 95 »Quartetto serioso«\nStreichquartett e-Moll op
 . 59/2
UID:event27997@Elbphilharmonie.de
URL:https://www.elbphilharmonie.de/en/whats-on/quatuor-ebene/27997
END:VEVENT
END:VCALENDAR
