BEGIN:VCALENDAR
METHOD:PUBLISH
CALSCALE:GREGORIAN
PRODID:Elbphilharmonie
VERSION:2.0
BEGIN:VTIMEZONE
TZID:Europe/Berlin
BEGIN:DAYLIGHT
TZOFFSETFROM:+0100
TZOFFSETTO:+0200
TZNAME:CEST
DTSTART:20200329T010000
RRULE:FREQ=YEARLY;INTERVAL=1;BYDAY=-1SU;BYMONTH=3
END:DAYLIGHT
BEGIN:STANDARD
TZOFFSETFROM:+0200
TZOFFSETTO:+0100
TZNAME:CET
DTSTART:20201025T010000
RRULE:FREQ=YEARLY;INTERVAL=1;BYDAY=-1SU;BYMONTH=10
END:STANDARD
END:VTIMEZONE
BEGIN:VEVENT
DTSTAMP:20260423T183100Z
DTSTART:20261011T090000Z
DTEND:20261011T113000Z
LOCATION:Elbphilharmonie Kleiner Saal
SUMMARY:Quatuor Ébène
DESCRIPTION:Performers\nQuatuor Ébène\nPierre Colombet: violin\nGabriel 
 Le Magadure: violin\nMarie Chilemme: viola\nYuya Okamoto: violoncello\n\nP
 rogramme\nLudwig van Beethoven\nString Quartet in F major\, Op. 18/1\nStre
 ichquartett Es-Dur op. 74 »Harfenquartett«\nString Quartet in C major\,
  Op. 59/3
UID:event27993@Elbphilharmonie.de
URL:https://www.elbphilharmonie.de/en/whats-on/quatuor-ebene/27993
END:VEVENT
END:VCALENDAR
