BEGIN:VCALENDAR
METHOD:PUBLISH
CALSCALE:GREGORIAN
PRODID:Elbphilharmonie
VERSION:2.0
BEGIN:VTIMEZONE
TZID:Europe/Berlin
BEGIN:DAYLIGHT
TZOFFSETFROM:+0100
TZOFFSETTO:+0200
TZNAME:CEST
DTSTART:20200329T010000
RRULE:FREQ=YEARLY;INTERVAL=1;BYDAY=-1SU;BYMONTH=3
END:DAYLIGHT
BEGIN:STANDARD
TZOFFSETFROM:+0200
TZOFFSETTO:+0100
TZNAME:CET
DTSTART:20201025T010000
RRULE:FREQ=YEARLY;INTERVAL=1;BYDAY=-1SU;BYMONTH=10
END:STANDARD
END:VTIMEZONE
BEGIN:VEVENT
DTSTAMP:20260423T195300Z
DTSTART:20261009T173000Z
DTEND:20261009T200000Z
LOCATION:Elbphilharmonie Kleiner Saal
SUMMARY:Quatuor Ébène
DESCRIPTION:Performers\nQuatuor Ébène\nPierre Colombet: violin\nGabriel 
 Le Magadure: violin\nMarie Chilemme: viola\nYuya Okamoto: violoncello\n\nP
 rogramme\nLudwig van Beethoven\nStreichquartett A-Dur op. 18/5\nString Qu
 artet in C minor\, Op. 18/4\nString Quartet in E-flat major\, Op. 127
UID:event27992@Elbphilharmonie.de
URL:https://www.elbphilharmonie.de/en/whats-on/quatuor-ebene/27992
END:VEVENT
END:VCALENDAR
