BEGIN:VCALENDAR
METHOD:PUBLISH
CALSCALE:GREGORIAN
PRODID:Elbphilharmonie
VERSION:2.0
BEGIN:VTIMEZONE
TZID:Europe/Berlin
BEGIN:DAYLIGHT
TZOFFSETFROM:+0100
TZOFFSETTO:+0200
TZNAME:CEST
DTSTART:20200329T010000
RRULE:FREQ=YEARLY;INTERVAL=1;BYDAY=-1SU;BYMONTH=3
END:DAYLIGHT
BEGIN:STANDARD
TZOFFSETFROM:+0200
TZOFFSETTO:+0100
TZNAME:CET
DTSTART:20201025T010000
RRULE:FREQ=YEARLY;INTERVAL=1;BYDAY=-1SU;BYMONTH=10
END:STANDARD
END:VTIMEZONE
BEGIN:VEVENT
DTSTAMP:20260423T164300Z
DTSTART:20270309T190000Z
DTEND:20270309T204500Z
LOCATION:Elbphilharmonie Großer Saal
SUMMARY:Pygmalion / Raphaël Pichon
DESCRIPTION:Performers\nPygmalion: choir and orchestra \nconductor: Rapha
 ël Pichon\n\nProgramme\nKlangcosmos: Praetorius\, Schütz\, Gabrieli\nMic
 hael Praetorius\nVeni sancte Spiritus / aus: Hymnodia Sionia\nIntrada à 6
 \nHallelujah! Christ ist erstanden Nr. 174 / aus: Musae Sioniae V\nGiovann
 i Gabrieli\nSanctus à 12 / aus: Symphoniae Sacrae I\nClaudio Monteverdi\n
 Dixit Dominus II a 8\nHeinrich Schütz\nO Jesu\, nomen dulce SWV 308 / aus
 : Kleine geistliche Konzerte mit 1-5 Stimmen\nSaul\, Saul\, was verfolgst 
 du mich? SWV 415 / aus: Symphoniae Sacrae III\nIgnazio Donati\nDulcis amor
  Jesu à 5 / aus: Sacri concentus\nHeinrich Schütz\nDanket dem Herrn\, de
 nn er ist freundlich SWV 45 / aus: Psalmen Davids\nClaudio Monteverdi\nAdo
 ramus te / motet\nSamuel Scheidt\nPaduana dolorosa à 5 SSWV 47 / aus: Lud
 i Musici I\nGiovanni Pierluigi da Palestrina\, Giovanni Battista Bovicelli
 \nAve verum corpus / aus: Regole\, passaggi di musica\nClaudio Monteverdi\
 nSalve Regina II à 2 / aus: Selva Morale e Spirituale\nStabat Virgo Maria
  à 5\nHeinrich Schütz\nAlleluja\, Lobet den Herren SWV 38 / aus: Psalmen
  Davids\nsowie weitere Werke von Michael Praetorius\, Giovanni Gabrieli\, 
 Heinrich Schütz und weiteren
UID:event28411@Elbphilharmonie.de
URL:https://www.elbphilharmonie.de/en/whats-on/pygmalion-raphael-pichon/28
 411
END:VEVENT
END:VCALENDAR
