BEGIN:VCALENDAR
METHOD:PUBLISH
CALSCALE:GREGORIAN
PRODID:Elbphilharmonie
VERSION:2.0
BEGIN:VTIMEZONE
TZID:Europe/Berlin
BEGIN:DAYLIGHT
TZOFFSETFROM:+0100
TZOFFSETTO:+0200
TZNAME:CEST
DTSTART:20200329T010000
RRULE:FREQ=YEARLY;INTERVAL=1;BYDAY=-1SU;BYMONTH=3
END:DAYLIGHT
BEGIN:STANDARD
TZOFFSETFROM:+0200
TZOFFSETTO:+0100
TZNAME:CET
DTSTART:20201025T010000
RRULE:FREQ=YEARLY;INTERVAL=1;BYDAY=-1SU;BYMONTH=10
END:STANDARD
END:VTIMEZONE
BEGIN:VEVENT
DTSTAMP:20260423T151300Z
DTSTART:20270122T190000Z
DTEND:20270122T210000Z
LOCATION:Elbphilharmonie Großer Saal
SUMMARY:Punch Brothers
DESCRIPTION:Performers\nPunch Brothers\nChris Thile: mandolin\nBrittany Ha
 as: violin\nNoam Pikelny: banjo\nChris Eldridge: guitar\nPaul Kowert: bass
 \n\nProgramme\n»The Unsung Adventures of Punch Brothers«
UID:event28173@Elbphilharmonie.de
URL:https://www.elbphilharmonie.de/en/whats-on/punch-brothers/28173
END:VEVENT
END:VCALENDAR
