BEGIN:VCALENDAR
METHOD:PUBLISH
CALSCALE:GREGORIAN
PRODID:Elbphilharmonie
VERSION:2.0
BEGIN:VTIMEZONE
TZID:Europe/Berlin
BEGIN:DAYLIGHT
TZOFFSETFROM:+0100
TZOFFSETTO:+0200
TZNAME:CEST
DTSTART:20200329T010000
RRULE:FREQ=YEARLY;INTERVAL=1;BYDAY=-1SU;BYMONTH=3
END:DAYLIGHT
BEGIN:STANDARD
TZOFFSETFROM:+0200
TZOFFSETTO:+0100
TZNAME:CET
DTSTART:20201025T010000
RRULE:FREQ=YEARLY;INTERVAL=1;BYDAY=-1SU;BYMONTH=10
END:STANDARD
END:VTIMEZONE
BEGIN:VEVENT
DTSTAMP:20260424T154900Z
DTSTART:20270424T160000Z
DTEND:20270424T181500Z
LOCATION:Laeiszhalle Kleiner Saal
SUMMARY:Polish Art Philharmonic / Aleksandra Opała / Michael Maciaszczyk
DESCRIPTION:Performers\nPolish Art Philharmonic\nAleksandra Opała: mezzo-
 soprano\nconductor: Michael Maciaszczyk\n\nProgramme\nBaroque arias from t
 he era of Farinelli\, George Frideric Handel\, and Antonio Vivaldi\n– In
 terval – \nAntonio Vivaldi\nLe quattro stagioni (The Four Seasons)\, Op.
  8
UID:event28784@Elbphilharmonie.de
URL:https://www.elbphilharmonie.de/en/whats-on/polish-art-philharmonic-ale
 ksandra-opaa-michael-maciaszczyk/28784
END:VEVENT
END:VCALENDAR
