BEGIN:VCALENDAR
METHOD:PUBLISH
CALSCALE:GREGORIAN
PRODID:Elbphilharmonie
VERSION:2.0
BEGIN:VTIMEZONE
TZID:Europe/Berlin
BEGIN:DAYLIGHT
TZOFFSETFROM:+0100
TZOFFSETTO:+0200
TZNAME:CEST
DTSTART:20200329T010000
RRULE:FREQ=YEARLY;INTERVAL=1;BYDAY=-1SU;BYMONTH=3
END:DAYLIGHT
BEGIN:STANDARD
TZOFFSETFROM:+0200
TZOFFSETTO:+0100
TZNAME:CET
DTSTART:20201025T010000
RRULE:FREQ=YEARLY;INTERVAL=1;BYDAY=-1SU;BYMONTH=10
END:STANDARD
END:VTIMEZONE
BEGIN:VEVENT
DTSTAMP:20260423T195300Z
DTSTART:20270417T140000Z
DTEND:20270417T151500Z
LOCATION:Laeiszhalle Kleiner Saal
SUMMARY:Poiesis Quartet
DESCRIPTION:Performers\nPoiesis Quartet\nSarah Ying Ma: violin\nMax Ball: 
 violin\nJasper de Boor: viola\nDrew Dansby: violoncello\n\nProgramme\nCole
 ridge-Taylor Perkinson\nStreichquartett Nr. 1 »Calvary«\nMaya Irizarry L
 ambright\nforest of taldeni\nMaurice Ravel\nString Quartet in F major\, Op
 . 35
UID:event28021@Elbphilharmonie.de
URL:https://www.elbphilharmonie.de/en/whats-on/poiesis-quartet/28021
END:VEVENT
END:VCALENDAR
