BEGIN:VCALENDAR
METHOD:PUBLISH
CALSCALE:GREGORIAN
PRODID:Elbphilharmonie
VERSION:2.0
BEGIN:VTIMEZONE
TZID:Europe/Berlin
BEGIN:DAYLIGHT
TZOFFSETFROM:+0100
TZOFFSETTO:+0200
TZNAME:CEST
DTSTART:20200329T010000
RRULE:FREQ=YEARLY;INTERVAL=1;BYDAY=-1SU;BYMONTH=3
END:DAYLIGHT
BEGIN:STANDARD
TZOFFSETFROM:+0200
TZOFFSETTO:+0100
TZNAME:CET
DTSTART:20201025T010000
RRULE:FREQ=YEARLY;INTERVAL=1;BYDAY=-1SU;BYMONTH=10
END:STANDARD
END:VTIMEZONE
BEGIN:VEVENT
DTSTAMP:20260424T011100Z
DTSTART:20270121T183000Z
DTEND:20270121T202000Z
LOCATION:Elbphilharmonie Kleiner Saal
SUMMARY:Petar Pejčić\, violoncello
DESCRIPTION:Performers\nPetar Pejčić: violoncello\nNour Ayadi: piano\n\n
 Programme\nNadia Boulanger\nTrois Pièces for Violoncello and Piano\nSerge
 j Prokofjew\nSonate C-Dur op. 119 für Violoncello und Klavier\nĐuro Ži
 vković\nNeues Werk\nMstislav Rostropovich\nHumoreske für Violoncello und
  Klavier d-Moll op. 5\n– Interval – \nDmitri Schostakowitsch\nSonata 
 for Violoncello and Piano in D minor\, Op. 40\nAstor Piazzolla\nLe Grand T
 ango
UID:event28150@Elbphilharmonie.de
URL:https://www.elbphilharmonie.de/en/whats-on/petar-pejcic-violoncello/28
 150
END:VEVENT
END:VCALENDAR
