BEGIN:VCALENDAR
METHOD:PUBLISH
CALSCALE:GREGORIAN
PRODID:Elbphilharmonie
VERSION:2.0
BEGIN:VTIMEZONE
TZID:Europe/Berlin
BEGIN:DAYLIGHT
TZOFFSETFROM:+0100
TZOFFSETTO:+0200
TZNAME:CEST
DTSTART:20200329T010000
RRULE:FREQ=YEARLY;INTERVAL=1;BYDAY=-1SU;BYMONTH=3
END:DAYLIGHT
BEGIN:STANDARD
TZOFFSETFROM:+0200
TZOFFSETTO:+0100
TZNAME:CET
DTSTART:20201025T010000
RRULE:FREQ=YEARLY;INTERVAL=1;BYDAY=-1SU;BYMONTH=10
END:STANDARD
END:VTIMEZONE
BEGIN:VEVENT
DTSTAMP:20260425T125600Z
DTSTART:20270502T180000Z
DTEND:20270502T210000Z
LOCATION:Elbphilharmonie Großer Saal
SUMMARY:Patricia Kopatchinskaja / Ensemble Resonanz: Prometheus
DESCRIPTION:Performers\nEnsemble Resonanz\nPatricia Kopatchinskaja: violin
 \, recitation\, concept\, director\nJoonas Ahonen: piano\, harpsichord\nLa
 ni Tran-Duc: stage and visual concept\nMarco Borggreve: lights\n\nProgramm
 e\nPrometheus\nWerke von Ludwig van Beethoven\,
UID:event28451@Elbphilharmonie.de
URL:https://www.elbphilharmonie.de/en/whats-on/patricia-kopatchinskaja-ens
 emble-resonanz-prometheus/28451
END:VEVENT
END:VCALENDAR
