BEGIN:VCALENDAR
METHOD:PUBLISH
CALSCALE:GREGORIAN
PRODID:Elbphilharmonie
VERSION:2.0
BEGIN:VTIMEZONE
TZID:Europe/Berlin
BEGIN:DAYLIGHT
TZOFFSETFROM:+0100
TZOFFSETTO:+0200
TZNAME:CEST
DTSTART:20200329T010000
RRULE:FREQ=YEARLY;INTERVAL=1;BYDAY=-1SU;BYMONTH=3
END:DAYLIGHT
BEGIN:STANDARD
TZOFFSETFROM:+0200
TZOFFSETTO:+0100
TZNAME:CET
DTSTART:20201025T010000
RRULE:FREQ=YEARLY;INTERVAL=1;BYDAY=-1SU;BYMONTH=10
END:STANDARD
END:VTIMEZONE
BEGIN:VEVENT
DTSTAMP:20260423T195400Z
DTSTART:20261106T190000Z
DTEND:20261106T213000Z
LOCATION:Laeiszhalle Kleiner Saal
SUMMARY:Opus13
DESCRIPTION:Performers\nOpus13\nSonoko Miriam Welde: violin\nEdvard Erdal:
  violin\nAlbin Uusijärvi: viola\nDaniel Thorell: violoncello\n\nProgramme
 \nJoseph Haydn\nStreichquartett G-Dur op. 77/1 »Komplimentierquartett«\
 nBéla Bartók\nStreichquartett Nr. 3 Sz 85\n– Interval – \nFranz Schu
 bert\nString Quartet in D minor\, D 810 »Death and the Maiden«
UID:event27991@Elbphilharmonie.de
URL:https://www.elbphilharmonie.de/en/whats-on/opus13/27991
END:VEVENT
END:VCALENDAR
