BEGIN:VCALENDAR
METHOD:PUBLISH
CALSCALE:GREGORIAN
PRODID:Elbphilharmonie
VERSION:2.0
BEGIN:VTIMEZONE
TZID:Europe/Berlin
BEGIN:DAYLIGHT
TZOFFSETFROM:+0100
TZOFFSETTO:+0200
TZNAME:CEST
DTSTART:20200329T010000
RRULE:FREQ=YEARLY;INTERVAL=1;BYDAY=-1SU;BYMONTH=3
END:DAYLIGHT
BEGIN:STANDARD
TZOFFSETFROM:+0200
TZOFFSETTO:+0100
TZNAME:CET
DTSTART:20201025T010000
RRULE:FREQ=YEARLY;INTERVAL=1;BYDAY=-1SU;BYMONTH=10
END:STANDARD
END:VTIMEZONE
BEGIN:VEVENT
DTSTAMP:20260423T151400Z
DTSTART:20260904T180000Z
DTEND:20260904T200000Z
LOCATION:Elbphilharmonie Großer Saal
SUMMARY:Opening Night: NDR Elbphilharmonie Orchestra / Stephan Cürlis / A
 lan Gilbert
DESCRIPTION:Performers\nNDR Elbphilharmonie Orchester\nStephan Cürlis: ti
 mpani\nconductor: Alan Gilbert\n\nProgramme\nJames Oliverio\nConcerto for 
 timpani and orchestra No. 3\n– Interval – \nGustav Mahler\nSymphony No
 . 6 in A minor
UID:event27822@Elbphilharmonie.de
URL:https://www.elbphilharmonie.de/en/whats-on/opening-night-ndr-elbphilha
 rmonie-orchestra-stephan-curlis-alan-gilbert/27822
END:VEVENT
END:VCALENDAR
