BEGIN:VCALENDAR
METHOD:PUBLISH
CALSCALE:GREGORIAN
PRODID:Elbphilharmonie
VERSION:2.0
BEGIN:VTIMEZONE
TZID:Europe/Berlin
BEGIN:DAYLIGHT
TZOFFSETFROM:+0100
TZOFFSETTO:+0200
TZNAME:CEST
DTSTART:20200329T010000
RRULE:FREQ=YEARLY;INTERVAL=1;BYDAY=-1SU;BYMONTH=3
END:DAYLIGHT
BEGIN:STANDARD
TZOFFSETFROM:+0200
TZOFFSETTO:+0100
TZNAME:CET
DTSTART:20201025T010000
RRULE:FREQ=YEARLY;INTERVAL=1;BYDAY=-1SU;BYMONTH=10
END:STANDARD
END:VTIMEZONE
BEGIN:VEVENT
DTSTAMP:20260423T233200Z
DTSTART:20270319T183000Z
DTEND:20270319T201500Z
LOCATION:Elbphilharmonie Kleiner Saal
SUMMARY:NOVO Quartet
DESCRIPTION:Performers\nNOVO Quartet\nKaya Kato Møller: violin\nNikolai V
 asili Nedergaard: violin\nDaniel Śledziński: viola\nSigne Ebstrup Bitsch
 : violoncello\n\nProgramme\nCaroline Shaw\nEntr’acte\nDmitri Schostakowi
 tsch\nStreichquartett Nr. 7 fis-Moll op. 108\nTerry Riley\nGood Medicine 
 / aus: Salome Dances for Peace\n– Interval – \nLudwig van Beethoven\nS
 treichquartett cis-Moll op. 131
UID:event28023@Elbphilharmonie.de
URL:https://www.elbphilharmonie.de/en/whats-on/novo-quartet/28023
END:VEVENT
END:VCALENDAR
