BEGIN:VCALENDAR
METHOD:PUBLISH
CALSCALE:GREGORIAN
PRODID:Elbphilharmonie
VERSION:2.0
BEGIN:VTIMEZONE
TZID:Europe/Berlin
BEGIN:DAYLIGHT
TZOFFSETFROM:+0100
TZOFFSETTO:+0200
TZNAME:CEST
DTSTART:20200329T010000
RRULE:FREQ=YEARLY;INTERVAL=1;BYDAY=-1SU;BYMONTH=3
END:DAYLIGHT
BEGIN:STANDARD
TZOFFSETFROM:+0200
TZOFFSETTO:+0100
TZNAME:CET
DTSTART:20201025T010000
RRULE:FREQ=YEARLY;INTERVAL=1;BYDAY=-1SU;BYMONTH=10
END:STANDARD
END:VTIMEZONE
BEGIN:VEVENT
DTSTAMP:20260423T115400Z
DTSTART:20261019T180000Z
DTEND:20261019T200000Z
LOCATION:Elbphilharmonie Großer Saal
SUMMARY:New York Philharmonic / Orfeó Català / Gustavo Dudamel
DESCRIPTION:Performers\nNew York Philharmonic\nOrfeó Català\nconductor: 
 Gustavo Dudamel\n\nProgramme\nJohn Adams\nOn the Transmigration of Souls\n
 Zosha Di Castri\nNew Work for Orchestra\n– Interval – \nSergej Prokofj
 ew\nSymphony No. 5 in B-flat major\, Op. 100
UID:event27933@Elbphilharmonie.de
URL:https://www.elbphilharmonie.de/en/whats-on/new-york-philharmonic-orfeo
 -catala-gustavo-dudamel/27933
END:VEVENT
END:VCALENDAR
