BEGIN:VCALENDAR
METHOD:PUBLISH
CALSCALE:GREGORIAN
PRODID:Elbphilharmonie
VERSION:2.0
BEGIN:VTIMEZONE
TZID:Europe/Berlin
BEGIN:DAYLIGHT
TZOFFSETFROM:+0100
TZOFFSETTO:+0200
TZNAME:CEST
DTSTART:20200329T010000
RRULE:FREQ=YEARLY;INTERVAL=1;BYDAY=-1SU;BYMONTH=3
END:DAYLIGHT
BEGIN:STANDARD
TZOFFSETFROM:+0200
TZOFFSETTO:+0100
TZNAME:CET
DTSTART:20201025T010000
RRULE:FREQ=YEARLY;INTERVAL=1;BYDAY=-1SU;BYMONTH=10
END:STANDARD
END:VTIMEZONE
BEGIN:VEVENT
DTSTAMP:20260423T195600Z
DTSTART:20270221T170000Z
DTEND:20270221T183000Z
LOCATION:Elbphilharmonie Großer Saal
SUMMARY:NDR Vokalensemble / Krista Audere
DESCRIPTION:Performers\nNDR Vokalensemble\ndirector: Krista Audere\n\nProg
 ramme\nJoby Talbot\nPath of Miracles\nThe concert takes place without an i
 nterval.
UID:event28158@Elbphilharmonie.de
URL:https://www.elbphilharmonie.de/en/whats-on/ndr-vokalensemble-krista-au
 dere/28158
END:VEVENT
END:VCALENDAR
