BEGIN:VCALENDAR
METHOD:PUBLISH
CALSCALE:GREGORIAN
PRODID:Elbphilharmonie
VERSION:2.0
BEGIN:VTIMEZONE
TZID:Europe/Berlin
BEGIN:DAYLIGHT
TZOFFSETFROM:+0100
TZOFFSETTO:+0200
TZNAME:CEST
DTSTART:20200329T010000
RRULE:FREQ=YEARLY;INTERVAL=1;BYDAY=-1SU;BYMONTH=3
END:DAYLIGHT
BEGIN:STANDARD
TZOFFSETFROM:+0200
TZOFFSETTO:+0100
TZNAME:CET
DTSTART:20201025T010000
RRULE:FREQ=YEARLY;INTERVAL=1;BYDAY=-1SU;BYMONTH=10
END:STANDARD
END:VTIMEZONE
BEGIN:VEVENT
DTSTAMP:20260423T115400Z
DTSTART:20261109T190000Z
DTEND:20261109T211500Z
LOCATION:Laeiszhalle Großer Saal
SUMMARY:NDR Vokalensemble / Kammerakademie Potsdam / Klaas Stok
DESCRIPTION:Performers\nNDR Vokalensemble\nKammerakademie Potsdam\nLiv Red
 path: soprano\nMichael Porter: tenor\nMarkus Eiche: bass\ndirector: Klaas 
 Stok\n\nProgramme\nJoseph Haydn\nThe Creation / Oratorio for Soloists\, Ch
 oir and Orchestra\, Hob. XXI:2\nThe concert takes place with an interval.
UID:event28159@Elbphilharmonie.de
URL:https://www.elbphilharmonie.de/en/whats-on/ndr-vokalensemble-kammeraka
 demie-potsdam-klaas-stok/28159
END:VEVENT
END:VCALENDAR
