BEGIN:VCALENDAR
METHOD:PUBLISH
CALSCALE:GREGORIAN
PRODID:Elbphilharmonie
VERSION:2.0
BEGIN:VTIMEZONE
TZID:Europe/Berlin
BEGIN:DAYLIGHT
TZOFFSETFROM:+0100
TZOFFSETTO:+0200
TZNAME:CEST
DTSTART:20200329T010000
RRULE:FREQ=YEARLY;INTERVAL=1;BYDAY=-1SU;BYMONTH=3
END:DAYLIGHT
BEGIN:STANDARD
TZOFFSETFROM:+0200
TZOFFSETTO:+0100
TZNAME:CET
DTSTART:20201025T010000
RRULE:FREQ=YEARLY;INTERVAL=1;BYDAY=-1SU;BYMONTH=10
END:STANDARD
END:VTIMEZONE
BEGIN:VEVENT
DTSTAMP:20260423T124300Z
DTSTART:20260918T180000Z
DTEND:20260918T200000Z
LOCATION:Kulturkirche Altona
SUMMARY:NDR Vokalensemble / Elbtonal Percussion / Klaas Stok
DESCRIPTION:Performers\nNDR Vokalensemble\nMitglieder des NDR Elbphilharmo
 nie Orchesters\nElbtonal Percussion\nJan-Frederick Behrend: percussion\nAn
 drej Kauffmann: percussion\nStephan Krause: percussion\nSönke Schreiber: 
 percussion\nFrancisco Manuel Anguas Rodriguez: percussion\nOlaf Koep: perc
 ussion\ndirector: Klaas Stok\n\nProgramme\nCaroline Shaw\nTo the Hands\nMo
 rton Feldman\nRothko Chapel\n– Interval – \nSofia Gubaidulina\nSonneng
 esang
UID:event28162@Elbphilharmonie.de
URL:https://www.elbphilharmonie.de/en/whats-on/ndr-vokalensemble-elbtonal-
 percussion-klaas-stok/28162
END:VEVENT
END:VCALENDAR
