BEGIN:VCALENDAR
METHOD:PUBLISH
CALSCALE:GREGORIAN
PRODID:Elbphilharmonie
VERSION:2.0
BEGIN:VTIMEZONE
TZID:Europe/Berlin
BEGIN:DAYLIGHT
TZOFFSETFROM:+0100
TZOFFSETTO:+0200
TZNAME:CEST
DTSTART:20200329T010000
RRULE:FREQ=YEARLY;INTERVAL=1;BYDAY=-1SU;BYMONTH=3
END:DAYLIGHT
BEGIN:STANDARD
TZOFFSETFROM:+0200
TZOFFSETTO:+0100
TZNAME:CET
DTSTART:20201025T010000
RRULE:FREQ=YEARLY;INTERVAL=1;BYDAY=-1SU;BYMONTH=10
END:STANDARD
END:VTIMEZONE
BEGIN:VEVENT
DTSTAMP:20260423T181800Z
DTSTART:20270626T180000Z
DTEND:20270626T200000Z
LOCATION:Elbphilharmonie Großer Saal
SUMMARY:NDR Elbphilharmonie Orchestrar / Lisa Batiashvili / Alan Gilbert
DESCRIPTION:Performers\nNDR Elbphilharmonie Orchester\nLisa Batiashvili: v
 iolin\nconductor: Alan Gilbert\n\nProgramme\nLudwig van Beethoven\nConcert
 o for Violin and Orchestra in D major\, Op. 61\n– Interval – \nJohn Ad
 ams\nAbsolute Jest für Streichquartett und Orchester\nRichard Strauss\nTi
 ll Eulenspiegels lustige Streiche\, Op. 28
UID:event27865@Elbphilharmonie.de
URL:https://www.elbphilharmonie.de/en/whats-on/ndr-elbphilharmonie-orchest
 rar-lisa-batiashvili-alan-gilbert/27865
END:VEVENT
END:VCALENDAR
