BEGIN:VCALENDAR
METHOD:PUBLISH
CALSCALE:GREGORIAN
PRODID:Elbphilharmonie
VERSION:2.0
BEGIN:VTIMEZONE
TZID:Europe/Berlin
BEGIN:DAYLIGHT
TZOFFSETFROM:+0100
TZOFFSETTO:+0200
TZNAME:CEST
DTSTART:20200329T010000
RRULE:FREQ=YEARLY;INTERVAL=1;BYDAY=-1SU;BYMONTH=3
END:DAYLIGHT
BEGIN:STANDARD
TZOFFSETFROM:+0200
TZOFFSETTO:+0100
TZNAME:CET
DTSTART:20201025T010000
RRULE:FREQ=YEARLY;INTERVAL=1;BYDAY=-1SU;BYMONTH=10
END:STANDARD
END:VTIMEZONE
BEGIN:VEVENT
DTSTAMP:20260423T122800Z
DTSTART:20270206T190000Z
DTEND:20270206T200000Z
LOCATION:Elbphilharmonie Großer Saal
SUMMARY:NDR Elbphilharmonie Orchestrar / Leif Ove Andsnes / Alan Gilbert
DESCRIPTION:Performers\nNDR Elbphilharmonie Orchester\nNDR Bigband\nLeif O
 ve Andsnes: piano\nconductor: Alan Gilbert\n\nProgramme\nMissy Mazzoli\nNe
 ues Klavierkonzert\nDarcy James Argue\nneues Werk für Bigband und Orchest
 er
UID:event27844@Elbphilharmonie.de
URL:https://www.elbphilharmonie.de/en/whats-on/ndr-elbphilharmonie-orchest
 rar-leif-ove-andsnes-alan-gilbert/27844
END:VEVENT
END:VCALENDAR
