BEGIN:VCALENDAR
METHOD:PUBLISH
CALSCALE:GREGORIAN
PRODID:Elbphilharmonie
VERSION:2.0
BEGIN:VTIMEZONE
TZID:Europe/Berlin
BEGIN:DAYLIGHT
TZOFFSETFROM:+0100
TZOFFSETTO:+0200
TZNAME:CEST
DTSTART:20200329T010000
RRULE:FREQ=YEARLY;INTERVAL=1;BYDAY=-1SU;BYMONTH=3
END:DAYLIGHT
BEGIN:STANDARD
TZOFFSETFROM:+0200
TZOFFSETTO:+0100
TZNAME:CET
DTSTART:20201025T010000
RRULE:FREQ=YEARLY;INTERVAL=1;BYDAY=-1SU;BYMONTH=10
END:STANDARD
END:VTIMEZONE
BEGIN:VEVENT
DTSTAMP:20260423T213900Z
DTSTART:20270529T180000Z
DTEND:20270529T200000Z
LOCATION:Elbphilharmonie Großer Saal
SUMMARY:NDR Elbphilharmonie Orchestra
DESCRIPTION:Performers\nNDR Elbphilharmonie Orchester\nMDR-Rundfunkchor\nM
 ichael Schade: tenor\nJamie Barton: mezzo-soprano\nMatthias Goerne: barito
 ne\nMorris Robinson: bass\nN.N.: Sprecher\nconductor: Alan Gilbert\n\nProg
 ramme\nIgor Strawinsky\nOedipus Rex / Opern-Oratorium in zwei Akten für S
 precher\, Soli\, Männerchor und Orchester\n– Interval – \nIgor Strawi
 nsky\nThe Rite of Spring (Le sacre du printemps) / Pictures of Pagan Russi
 a in Two Parts
UID:event27858@Elbphilharmonie.de
URL:https://www.elbphilharmonie.de/en/whats-on/ndr-elbphilharmonie-orchest
 ra/27858
END:VEVENT
END:VCALENDAR
