BEGIN:VCALENDAR
METHOD:PUBLISH
CALSCALE:GREGORIAN
PRODID:Elbphilharmonie
VERSION:2.0
BEGIN:VTIMEZONE
TZID:Europe/Berlin
BEGIN:DAYLIGHT
TZOFFSETFROM:+0100
TZOFFSETTO:+0200
TZNAME:CEST
DTSTART:20200329T010000
RRULE:FREQ=YEARLY;INTERVAL=1;BYDAY=-1SU;BYMONTH=3
END:DAYLIGHT
BEGIN:STANDARD
TZOFFSETFROM:+0200
TZOFFSETTO:+0100
TZNAME:CET
DTSTART:20201025T010000
RRULE:FREQ=YEARLY;INTERVAL=1;BYDAY=-1SU;BYMONTH=10
END:STANDARD
END:VTIMEZONE
BEGIN:VEVENT
DTSTAMP:20260423T115400Z
DTSTART:20270129T190000Z
DTEND:20270129T200000Z
LOCATION:Elbphilharmonie Großer Saal
SUMMARY:NDR Elbphilharmonie Orchestra / Vivi Vassileva / Alan Gilbert
DESCRIPTION:Performers\nNDR Elbphilharmonie Orchester\nVivi Vassileva: per
 cussion\nconductor: Alan Gilbert\n\nProgramme\nVeljko Nenadić\nSix Caryat
 ids – Epos for Orchestra (premiere)\nDaníel Bjarnason\nInferno / Konzer
 t für Schlagzeug und Orchester\nThe concert takes place without an interv
 al.
UID:event27867@Elbphilharmonie.de
URL:https://www.elbphilharmonie.de/en/whats-on/ndr-elbphilharmonie-orchest
 ra-vivi-vassileva-alan-gilbert/27867
END:VEVENT
END:VCALENDAR
