BEGIN:VCALENDAR
METHOD:PUBLISH
CALSCALE:GREGORIAN
PRODID:Elbphilharmonie
VERSION:2.0
BEGIN:VTIMEZONE
TZID:Europe/Berlin
BEGIN:DAYLIGHT
TZOFFSETFROM:+0100
TZOFFSETTO:+0200
TZNAME:CEST
DTSTART:20200329T010000
RRULE:FREQ=YEARLY;INTERVAL=1;BYDAY=-1SU;BYMONTH=3
END:DAYLIGHT
BEGIN:STANDARD
TZOFFSETFROM:+0200
TZOFFSETTO:+0100
TZNAME:CET
DTSTART:20201025T010000
RRULE:FREQ=YEARLY;INTERVAL=1;BYDAY=-1SU;BYMONTH=10
END:STANDARD
END:VTIMEZONE
BEGIN:VEVENT
DTSTAMP:20260423T181800Z
DTSTART:20270121T190000Z
DTEND:20270121T205000Z
LOCATION:Elbphilharmonie Großer Saal
SUMMARY:NDR Elbphilharmonie Orchestra / Pablo Ferrández / Manfred Honeck
DESCRIPTION:Performers\nNDR Elbphilharmonie Orchester\nPablo Ferrández: v
 ioloncello\nconductor: Manfred Honeck\n\nProgramme\nJüri Reinvere\nSchade
 \, zu spät\nJoseph Haydn\nSymphony in G major\, Hob. I:100\, »Military S
 ymphony«\n– Interval – \nAntonín Dvořák\nConcerto for Violoncello 
 and Orchestra in B minor\, Op. 104
UID:event27843@Elbphilharmonie.de
URL:https://www.elbphilharmonie.de/en/whats-on/ndr-elbphilharmonie-orchest
 ra-pablo-ferrandez-manfred-honeck/27843
END:VEVENT
END:VCALENDAR
