BEGIN:VCALENDAR
METHOD:PUBLISH
CALSCALE:GREGORIAN
PRODID:Elbphilharmonie
VERSION:2.0
BEGIN:VTIMEZONE
TZID:Europe/Berlin
BEGIN:DAYLIGHT
TZOFFSETFROM:+0100
TZOFFSETTO:+0200
TZNAME:CEST
DTSTART:20200329T010000
RRULE:FREQ=YEARLY;INTERVAL=1;BYDAY=-1SU;BYMONTH=3
END:DAYLIGHT
BEGIN:STANDARD
TZOFFSETFROM:+0200
TZOFFSETTO:+0100
TZNAME:CET
DTSTART:20201025T010000
RRULE:FREQ=YEARLY;INTERVAL=1;BYDAY=-1SU;BYMONTH=10
END:STANDARD
END:VTIMEZONE
BEGIN:VEVENT
DTSTAMP:20260423T121100Z
DTSTART:20270416T180000Z
DTEND:20270416T201500Z
LOCATION:Elbphilharmonie Großer Saal
SUMMARY:NDR Elbphilharmonie Orchestra / NDR Vokalensemble / Jonathan Stock
 hammer
DESCRIPTION:Performers\nNDR Elbphilharmonie Orchester\nNDR Vokalensemble\n
 Third Coast Percussion\nIlya Gringolts: violin\nconductor: Jonathan Stockh
 ammer\nconductor: Heide Müller\n\nProgramme\n»Apocalyptic Triptych«\nMi
 ssy Mazzoli\nYear of Our Burning\nMillennium Canticles\n– Interval – \
 nMissy Mazzoli\nViolinkonzert »Procession«\nIgor Strawinsky\nSymphony in
  Three Movements
UID:event27851@Elbphilharmonie.de
URL:https://www.elbphilharmonie.de/en/whats-on/ndr-elbphilharmonie-orchest
 ra-ndr-vokalensemble-jonathan-stockhammer/27851
END:VEVENT
END:VCALENDAR
