BEGIN:VCALENDAR
METHOD:PUBLISH
CALSCALE:GREGORIAN
PRODID:Elbphilharmonie
VERSION:2.0
BEGIN:VTIMEZONE
TZID:Europe/Berlin
BEGIN:DAYLIGHT
TZOFFSETFROM:+0100
TZOFFSETTO:+0200
TZNAME:CEST
DTSTART:20200329T010000
RRULE:FREQ=YEARLY;INTERVAL=1;BYDAY=-1SU;BYMONTH=3
END:DAYLIGHT
BEGIN:STANDARD
TZOFFSETFROM:+0200
TZOFFSETTO:+0100
TZNAME:CET
DTSTART:20201025T010000
RRULE:FREQ=YEARLY;INTERVAL=1;BYDAY=-1SU;BYMONTH=10
END:STANDARD
END:VTIMEZONE
BEGIN:VEVENT
DTSTAMP:20260423T121100Z
DTSTART:20261018T113000Z
DTEND:20261018T123000Z
LOCATION:Elbphilharmonie Großer Saal
SUMMARY:NDR Elbphilharmonie Orchestra / Leif Ove Andsnes / Alan Gilbert
DESCRIPTION:Performers\nNDR Elbphilharmonie Orchester\nLeif Ove Andsnes: p
 iano\nconductor: Alan Gilbert\n\nProgramme\nJohannes Brahms\nConcerto for 
 Piano and Orchestra No. 2 in B-flat major\, Op. 83
UID:event27868@Elbphilharmonie.de
URL:https://www.elbphilharmonie.de/en/whats-on/ndr-elbphilharmonie-orchest
 ra-leif-ove-andsnes-alan-gilbert/27868
END:VEVENT
END:VCALENDAR
