BEGIN:VCALENDAR
METHOD:PUBLISH
CALSCALE:GREGORIAN
PRODID:Elbphilharmonie
VERSION:2.0
BEGIN:VTIMEZONE
TZID:Europe/Berlin
BEGIN:DAYLIGHT
TZOFFSETFROM:+0100
TZOFFSETTO:+0200
TZNAME:CEST
DTSTART:20200329T010000
RRULE:FREQ=YEARLY;INTERVAL=1;BYDAY=-1SU;BYMONTH=3
END:DAYLIGHT
BEGIN:STANDARD
TZOFFSETFROM:+0200
TZOFFSETTO:+0100
TZNAME:CET
DTSTART:20201025T010000
RRULE:FREQ=YEARLY;INTERVAL=1;BYDAY=-1SU;BYMONTH=10
END:STANDARD
END:VTIMEZONE
BEGIN:VEVENT
DTSTAMP:20260423T121100Z
DTSTART:20261018T090000Z
DTEND:20261018T100000Z
LOCATION:Elbphilharmonie Großer Saal
SUMMARY:NDR Elbphilharmonie Orchestra / Leif Ove Andsnes / Alan Gilbert
DESCRIPTION:Performers\nNDR Elbphilharmonie Orchester\nconductor: Alan Gil
 bert\n\nProgramme\nFranz Liszt\nUngarische Rhapsodie cis-Moll S 244/2 / Or
 chesterfassung in c-Moll von Karl Müller-Berghaus\nClaude Debussy\nLa mer
  / Three Symphonic Sketches\nMaurice Ravel\nDaphnis et Chloé / Fragments 
 symphoniques\, deuxième série
UID:event27831@Elbphilharmonie.de
URL:https://www.elbphilharmonie.de/en/whats-on/ndr-elbphilharmonie-orchest
 ra-leif-ove-andsnes-alan-gilbert/27831
END:VEVENT
END:VCALENDAR
