BEGIN:VCALENDAR
METHOD:PUBLISH
CALSCALE:GREGORIAN
PRODID:Elbphilharmonie
VERSION:2.0
BEGIN:VTIMEZONE
TZID:Europe/Berlin
BEGIN:DAYLIGHT
TZOFFSETFROM:+0100
TZOFFSETTO:+0200
TZNAME:CEST
DTSTART:20200329T010000
RRULE:FREQ=YEARLY;INTERVAL=1;BYDAY=-1SU;BYMONTH=3
END:DAYLIGHT
BEGIN:STANDARD
TZOFFSETFROM:+0200
TZOFFSETTO:+0100
TZNAME:CET
DTSTART:20201025T010000
RRULE:FREQ=YEARLY;INTERVAL=1;BYDAY=-1SU;BYMONTH=10
END:STANDARD
END:VTIMEZONE
BEGIN:VEVENT
DTSTAMP:20260423T195500Z
DTSTART:20261211T190000Z
DTEND:20261211T210000Z
LOCATION:Elbphilharmonie Großer Saal
SUMMARY:NDR Elbphilharmonie Orchestra / Kirill Gerstein / Sakari Oramo
DESCRIPTION:Performers\nNDR Elbphilharmonie Orchester\nPrager Philharmonis
 cher Chor\nKirill Gerstein: piano\nconductor: Sakari Oramo\n\nProgramme\nC
 laude Debussy\nTrois Nocturnes\n– Interval – \nFerruccio Busoni\nKonze
 rt für Klavier und Orchester mit Männerchor op. 39
UID:event27841@Elbphilharmonie.de
URL:https://www.elbphilharmonie.de/en/whats-on/ndr-elbphilharmonie-orchest
 ra-kirill-gerstein-sakari-oramo/27841
END:VEVENT
END:VCALENDAR
