BEGIN:VCALENDAR
METHOD:PUBLISH
CALSCALE:GREGORIAN
PRODID:Elbphilharmonie
VERSION:2.0
BEGIN:VTIMEZONE
TZID:Europe/Berlin
BEGIN:DAYLIGHT
TZOFFSETFROM:+0100
TZOFFSETTO:+0200
TZNAME:CEST
DTSTART:20200329T010000
RRULE:FREQ=YEARLY;INTERVAL=1;BYDAY=-1SU;BYMONTH=3
END:DAYLIGHT
BEGIN:STANDARD
TZOFFSETFROM:+0200
TZOFFSETTO:+0100
TZNAME:CET
DTSTART:20201025T010000
RRULE:FREQ=YEARLY;INTERVAL=1;BYDAY=-1SU;BYMONTH=10
END:STANDARD
END:VTIMEZONE
BEGIN:VEVENT
DTSTAMP:20260423T195500Z
DTSTART:20270422T180000Z
DTEND:20270422T200000Z
LOCATION:Elbphilharmonie Großer Saal
SUMMARY:NDR Elbphilharmonie Orchestra  / Julia Fischer / Juraj Valčuha
DESCRIPTION:Performers\nNDR Elbphilharmonie Orchester\nVilde Frang: violin
 \nconductor: Juraj Valčuha\n\nProgramme\nBenjamin Britten\nFour Sea Inter
 ludes op. 33a / aus der Oper »Peter Grimes«\nBéla Bartók\nConcerto fo
 r Violin and Orchestra No. 2\, Sz 112\n– Interval – \nRobert Schumann\
 nSymphony No. 2 in C major\, Op. 61
UID:event27853@Elbphilharmonie.de
URL:https://www.elbphilharmonie.de/en/whats-on/ndr-elbphilharmonie-orchest
 ra-julia-fischer-juraj-valcuha/27853
END:VEVENT
END:VCALENDAR
