BEGIN:VCALENDAR
METHOD:PUBLISH
CALSCALE:GREGORIAN
PRODID:Elbphilharmonie
VERSION:2.0
BEGIN:VTIMEZONE
TZID:Europe/Berlin
BEGIN:DAYLIGHT
TZOFFSETFROM:+0100
TZOFFSETTO:+0200
TZNAME:CEST
DTSTART:20200329T010000
RRULE:FREQ=YEARLY;INTERVAL=1;BYDAY=-1SU;BYMONTH=3
END:DAYLIGHT
BEGIN:STANDARD
TZOFFSETFROM:+0200
TZOFFSETTO:+0100
TZNAME:CET
DTSTART:20201025T010000
RRULE:FREQ=YEARLY;INTERVAL=1;BYDAY=-1SU;BYMONTH=10
END:STANDARD
END:VTIMEZONE
BEGIN:VEVENT
DTSTAMP:20260423T181800Z
DTSTART:20270408T180000Z
DTEND:20270408T210000Z
LOCATION:Elbphilharmonie Großer Saal
SUMMARY:NDR Elbphilharmonie Orchestra / Julia Fischer / Alan Gilbert
DESCRIPTION:Performers\nNDR Elbphilharmonie Orchester\nJulia Fischer: viol
 in\nconductor: Alan Gilbert\n\nProgramme\nSamuel Barber\nSecond Essay for 
 Orchestra op. 17\nConcerto for Violin and Orchestra\, Op. 14\nLudwig van 
 Beethoven\nSymphony No. 6 in F major\, Op. 68 »Pastoral Symphony«
UID:event27850@Elbphilharmonie.de
URL:https://www.elbphilharmonie.de/en/whats-on/ndr-elbphilharmonie-orchest
 ra-julia-fischer-alan-gilbert/27850
END:VEVENT
END:VCALENDAR
