BEGIN:VCALENDAR
METHOD:PUBLISH
CALSCALE:GREGORIAN
PRODID:Elbphilharmonie
VERSION:2.0
BEGIN:VTIMEZONE
TZID:Europe/Berlin
BEGIN:DAYLIGHT
TZOFFSETFROM:+0100
TZOFFSETTO:+0200
TZNAME:CEST
DTSTART:20200329T010000
RRULE:FREQ=YEARLY;INTERVAL=1;BYDAY=-1SU;BYMONTH=3
END:DAYLIGHT
BEGIN:STANDARD
TZOFFSETFROM:+0200
TZOFFSETTO:+0100
TZNAME:CET
DTSTART:20201025T010000
RRULE:FREQ=YEARLY;INTERVAL=1;BYDAY=-1SU;BYMONTH=10
END:STANDARD
END:VTIMEZONE
BEGIN:VEVENT
DTSTAMP:20260423T234900Z
DTSTART:20270101T170000Z
DTEND:20270101T190000Z
LOCATION:Elbphilharmonie Großer Saal
SUMMARY:NDR Elbphilharmonie Orchestra / Josef Špaček / Petr Popelka
DESCRIPTION:Performers\nNDR Elbphilharmonie Orchester\nJosef Špaček: vio
 lin\nconductor: Petr Popelka\n\nProgramme\nBedřich Smetana\nOuvertüre zu
  »Die verkaufte Braut« B 143\nJosef Suk\nFantasie for Violin and Orchest
 ra\, Op. 24\n– Interval – \nAntonín Dvořák\nVorspiel und Ballettmus
 ik / aus der Oper »Die Teufelskäthe« op. 112\nLeoš Janáček\nSinfoni
 etta für Orchester op. 60
UID:event28388@Elbphilharmonie.de
URL:https://www.elbphilharmonie.de/en/whats-on/ndr-elbphilharmonie-orchest
 ra-josef-spacek-petr-popelka/28388
END:VEVENT
END:VCALENDAR
