BEGIN:VCALENDAR
METHOD:PUBLISH
CALSCALE:GREGORIAN
PRODID:Elbphilharmonie
VERSION:2.0
BEGIN:VTIMEZONE
TZID:Europe/Berlin
BEGIN:DAYLIGHT
TZOFFSETFROM:+0100
TZOFFSETTO:+0200
TZNAME:CEST
DTSTART:20200329T010000
RRULE:FREQ=YEARLY;INTERVAL=1;BYDAY=-1SU;BYMONTH=3
END:DAYLIGHT
BEGIN:STANDARD
TZOFFSETFROM:+0200
TZOFFSETTO:+0100
TZNAME:CET
DTSTART:20201025T010000
RRULE:FREQ=YEARLY;INTERVAL=1;BYDAY=-1SU;BYMONTH=10
END:STANDARD
END:VTIMEZONE
BEGIN:VEVENT
DTSTAMP:20260424T064100Z
DTSTART:20260910T180000Z
DTEND:20260910T195000Z
LOCATION:Elbphilharmonie Großer Saal
SUMMARY:NDR Elbphilharmonie Orchestra / Janine Jansen / Alan Gilbert
DESCRIPTION:Performers\nNDR Elbphilharmonie Orchester\nJanine Jansen: viol
 in\nconductor: Alan Gilbert\n\nProgramme\nJohn Adams\nLollapalooza\nKarol 
 Szymanowski\nConcerto for Violin and Orchestra No. 1\, Op. 35\n– Interva
 l – \nJohannes Brahms\nSymphony No. 1 in C minor\, Op. 68
UID:event27824@Elbphilharmonie.de
URL:https://www.elbphilharmonie.de/en/whats-on/ndr-elbphilharmonie-orchest
 ra-janine-jansen-alan-gilbert/27824
END:VEVENT
END:VCALENDAR
