BEGIN:VCALENDAR
METHOD:PUBLISH
CALSCALE:GREGORIAN
PRODID:Elbphilharmonie
VERSION:2.0
BEGIN:VTIMEZONE
TZID:Europe/Berlin
BEGIN:DAYLIGHT
TZOFFSETFROM:+0100
TZOFFSETTO:+0200
TZNAME:CEST
DTSTART:20200329T010000
RRULE:FREQ=YEARLY;INTERVAL=1;BYDAY=-1SU;BYMONTH=3
END:DAYLIGHT
BEGIN:STANDARD
TZOFFSETFROM:+0200
TZOFFSETTO:+0100
TZNAME:CET
DTSTART:20201025T010000
RRULE:FREQ=YEARLY;INTERVAL=1;BYDAY=-1SU;BYMONTH=10
END:STANDARD
END:VTIMEZONE
BEGIN:VEVENT
DTSTAMP:20260423T162800Z
DTSTART:20270211T190000Z
DTEND:20270211T203000Z
LOCATION:Elbphilharmonie Großer Saal
SUMMARY:NDR Elbphilharmonie Orchestra / Hayato Sumino / Alan Gilbert
DESCRIPTION:Performers\nNDR Elbphilharmonie Orchester\nHayato Sumino: pian
 o\nconductor: Alan Gilbert\n\nProgramme\nLudwig van Beethoven\nOverture to
  »Egmont«\, Op. 84\nGeorge Gershwin\nRhapsody in Blue (version for piano
  and orchestra)\n– Interval – \nAntonín Dvořák\nSymphony No. 9 in E
  minor\, Op. 95 »From the New World«
UID:event27845@Elbphilharmonie.de
URL:https://www.elbphilharmonie.de/en/whats-on/ndr-elbphilharmonie-orchest
 ra-hayato-sumino-alan-gilbert/27845
END:VEVENT
END:VCALENDAR
